BEGIN:VCALENDAR
VERSION:2.0
PRODID:-//EL ELYON - ECPv6.15.20//NONSGML v1.0//EN
CALSCALE:GREGORIAN
METHOD:PUBLISH
X-ORIGINAL-URL:https://elelyonmosthigh.com
X-WR-CALDESC:Events for EL ELYON
REFRESH-INTERVAL;VALUE=DURATION:PT1H
X-Robots-Tag:noindex
X-PUBLISHED-TTL:PT1H
BEGIN:VTIMEZONE
TZID:America/New_York
BEGIN:DAYLIGHT
TZOFFSETFROM:-0500
TZOFFSETTO:-0400
TZNAME:EDT
DTSTART:20200308T070000
END:DAYLIGHT
BEGIN:STANDARD
TZOFFSETFROM:-0400
TZOFFSETTO:-0500
TZNAME:EST
DTSTART:20201101T060000
END:STANDARD
BEGIN:DAYLIGHT
TZOFFSETFROM:-0500
TZOFFSETTO:-0400
TZNAME:EDT
DTSTART:20210314T070000
END:DAYLIGHT
BEGIN:STANDARD
TZOFFSETFROM:-0400
TZOFFSETTO:-0500
TZNAME:EST
DTSTART:20211107T060000
END:STANDARD
BEGIN:DAYLIGHT
TZOFFSETFROM:-0500
TZOFFSETTO:-0400
TZNAME:EDT
DTSTART:20220313T070000
END:DAYLIGHT
BEGIN:STANDARD
TZOFFSETFROM:-0400
TZOFFSETTO:-0500
TZNAME:EST
DTSTART:20221106T060000
END:STANDARD
END:VTIMEZONE
BEGIN:VEVENT
DTSTART;TZID=America/New_York:20210606T153000
DTEND;TZID=America/New_York:20210606T170000
DTSTAMP:20260423T203707
CREATED:20210524T222542Z
LAST-MODIFIED:20210606T172929Z
UID:2191-1622993400-1622998800@elelyonmosthigh.com
SUMMARY:Men's Day at Holy Ghost Crusade Pentecostal Church\, Inc
DESCRIPTION:Zoom Meeting ID: 836 9443 4896    Passcode: 092132
URL:https://elelyonmosthigh.com/event/mens-day-at-holy-ghost-crusade-pentecostal-church-inc
LOCATION:Holy Ghost Crusade Pentecostal Church\, 1643 North Bailey Street\, Philadelphia\, PA\, 19121
END:VEVENT
BEGIN:VEVENT
DTSTART;TZID=America/New_York:20210625T190000
DTEND;TZID=America/New_York:20210625T203000
DTSTAMP:20260423T203707
CREATED:20210621T175355Z
LAST-MODIFIED:20210621T175355Z
UID:2205-1624647600-1624653000@elelyonmosthigh.com
SUMMARY:Members Meeting
DESCRIPTION:
URL:https://elelyonmosthigh.com/event/members-meeting-2
LOCATION:Call In #: 313-209-8800 ID#: 08281972#
END:VEVENT
END:VCALENDAR