BEGIN:VCALENDAR
VERSION:2.0
PRODID:-//EL ELYON - ECPv6.15.20//NONSGML v1.0//EN
CALSCALE:GREGORIAN
METHOD:PUBLISH
X-ORIGINAL-URL:https://elelyonmosthigh.com
X-WR-CALDESC:Events for EL ELYON
REFRESH-INTERVAL;VALUE=DURATION:PT1H
X-Robots-Tag:noindex
X-PUBLISHED-TTL:PT1H
BEGIN:VTIMEZONE
TZID:America/New_York
BEGIN:DAYLIGHT
TZOFFSETFROM:-0500
TZOFFSETTO:-0400
TZNAME:EDT
DTSTART:20210314T070000
END:DAYLIGHT
BEGIN:STANDARD
TZOFFSETFROM:-0400
TZOFFSETTO:-0500
TZNAME:EST
DTSTART:20211107T060000
END:STANDARD
BEGIN:DAYLIGHT
TZOFFSETFROM:-0500
TZOFFSETTO:-0400
TZNAME:EDT
DTSTART:20220313T070000
END:DAYLIGHT
BEGIN:STANDARD
TZOFFSETFROM:-0400
TZOFFSETTO:-0500
TZNAME:EST
DTSTART:20221106T060000
END:STANDARD
BEGIN:DAYLIGHT
TZOFFSETFROM:-0500
TZOFFSETTO:-0400
TZNAME:EDT
DTSTART:20230312T070000
END:DAYLIGHT
BEGIN:STANDARD
TZOFFSETFROM:-0400
TZOFFSETTO:-0500
TZNAME:EST
DTSTART:20231105T060000
END:STANDARD
END:VTIMEZONE
BEGIN:VEVENT
DTSTART;TZID=America/New_York:20220805T183000
DTEND;TZID=America/New_York:20220805T183000
DTSTAMP:20260422T164745
CREATED:20220725T003014Z
LAST-MODIFIED:20220725T003221Z
UID:2456-1659724200-1659724200@elelyonmosthigh.com
SUMMARY:Launch Out For Christ Ministries Revival
DESCRIPTION:
URL:https://elelyonmosthigh.com/event/launch-out-for-christ-ministries-revival
LOCATION:Holiday In Express\, 195 US 130 North\, Bordentown\, NJ\, 08505\, United States
END:VEVENT
BEGIN:VEVENT
DTSTART;TZID=America/New_York:20220806T120000
DTEND;TZID=America/New_York:20220806T180000
DTSTAMP:20260422T164745
CREATED:20220709T134410Z
LAST-MODIFIED:20220724T180728Z
UID:2446-1659787200-1659808800@elelyonmosthigh.com
SUMMARY:Community Outreach - BBQ and Games Day!
DESCRIPTION:
URL:https://elelyonmosthigh.com/event/bbq-and-games-day
LOCATION:McMoran Park\, 154 Mary Waters Ford Road\, Bala Cynwyd\, PA\, 19004\, United States
END:VEVENT
BEGIN:VEVENT
DTSTART;TZID=America/New_York:20220827T120000
DTEND;TZID=America/New_York:20220827T140000
DTSTAMP:20260422T164745
CREATED:20220821T164110Z
LAST-MODIFIED:20220821T164300Z
UID:2464-1661601600-1661608800@elelyonmosthigh.com
SUMMARY:Holy Communion Service
DESCRIPTION:Call In #: (313)209-8800\nID: 08281972#
URL:https://elelyonmosthigh.com/event/holy-communion-service-4
END:VEVENT
END:VCALENDAR